BEGIN:VCALENDAR
VERSION:2.0
PRODID:-//eventon.com NONSGML v1.0//EN
CALSCALE:GREGORIAN
METHOD:PUBLISH
BEGIN:VEVENT
UID:69e7b9dc94c97
DTSTAMP:20260421T175436Z
DTSTART:20221027T110000Z
DTEND:20221030T160000Z
LOCATION:
SUMMARY:Jarrow Halloween - Pumpkin Patch and Halloween Crafts
DESCRIPTION:We are doing things a little differently at Halloween and Octob
 er Half Term this year at Jarrow Hall. Join us for Jarrow Halloween &#8211;
  Pumpkin Patch and Halloween Crafts on the afternoons of Thursday 27th – 
 Sunday 30th October. You will enjoy picking your own pumpkin\,  carving you
 r pumpkin\,  storytelling[..]\nhttps://jarrowhall.com/events/jarrow-hallowe
 en-pumpkin-patch-and-halloween-crafts%ef%bf%bc/
URL:https://jarrowhall.com/events/jarrow-halloween-pumpkin-patch-and-halloween-crafts%ef%bf%bc/
END:VEVENT
END:VCALENDAR