BEGIN:VCALENDAR
VERSION:2.0
PRODID:-//eventon.com NONSGML v1.0//EN
CALSCALE:GREGORIAN
METHOD:PUBLISH
BEGIN:VEVENT
UID:69e96e5ad157b
DTSTAMP:20260423T005658Z
DTSTART:20240629T090000Z
DTEND:20240628T230000Z
LOCATION:Jarrow Hall
SUMMARY:Saturday and Sunday Farm Club!
DESCRIPTION:Guided by our team\,  young farmers will get behind the scenes\
 ,  meet new friends\,  discover life on the farm and learn about the animal
 s who live at Jarrow Hall. Suitable for ages 8-14.Please wear outdoor cloth
 ing and wellies  £5 a session &#8211; either buy online or at the desk bu
 t[..]\nhttps://jarrowhall.com/events/saturday-and-sunday-farm-club/
URL:https://jarrowhall.com/events/saturday-and-sunday-farm-club/
END:VEVENT
END:VCALENDAR