BEGIN:VCALENDAR
VERSION:2.0
PRODID:-//eventon.com NONSGML v1.0//EN
CALSCALE:GREGORIAN
METHOD:PUBLISH
BEGIN:VEVENT
UID:69ea5416376dd
DTSTAMP:20260423T171710Z
DTSTART:20250416T100000Z
DTEND:20250416T120000Z
LOCATION:Jarrow Hall
SUMMARY:Object Handling
DESCRIPTION:Get your gloves on and get a feel for some history at our objec
 t handling sessions this Easter\,  where our Collections team will be diggi
 ng out some ancient artefacts from our museum stores for visitors to explor
 e and handle freely. Drop by in the museum corridor anytime from 11am-1pm\,
   Weds[..]\nhttps://jarrowhall.com/events/object-handling/
URL:https://jarrowhall.com/events/object-handling/
END:VEVENT
END:VCALENDAR