BEGIN:VCALENDAR
VERSION:2.0
PRODID:-//eventon.com NONSGML v1.0//EN
CALSCALE:GREGORIAN
METHOD:PUBLISH
BEGIN:VEVENT
UID:69ea471da58b1
DTSTAMP:20260423T162149Z
DTSTART:20251129T100000Z
DTEND:20251130T160000Z
LOCATION:Jarrow Hall
SUMMARY:Jarrow Hall Christmas Fayre
DESCRIPTION:Join us at Jarrow Hall this year for our fabulously festive Chr
 istmas Fayre. Browse market stalls and pick out personalised gifts\,  delic
 ious treats\,  handmade decorations and more. Plus: enjoy free access aroun
 d our museum\,  farm and village all weekend. Saturday 29th &amp; Sunday 30
 th November 10am-4pm Free entry &#8211; no[..]\nhttps://jarrowhall.com/even
 ts/jarrow-hall-christmas-fayre/
URL:https://jarrowhall.com/events/jarrow-hall-christmas-fayre/
END:VEVENT
END:VCALENDAR