BEGIN:VCALENDAR
VERSION:2.0
PRODID:-//eventon.com NONSGML v1.0//EN
CALSCALE:GREGORIAN
METHOD:PUBLISH
BEGIN:VEVENT
UID:69ea52baaf014
DTSTAMP:20260423T171122Z
DTSTART:20251025
DTEND:20251026
LOCATION:
SUMMARY:Jarroween
DESCRIPTION:A weekend of spooky Saxon sorcery at Jarrow Hall\,  featuring: 
 🎃 Pumpkin Carving 🔮 Charm Making 👻 Ghost Hunting 🐦‍🔥 Spook
 y Stories 💀 Haunted Museum 🦇 Visit between: 10am &#8211; 4pm Storytel
 ling: 11am / 1pm Saturday 25th &amp; Sunday 26th October Tickets Child £5 
 (includes pumpkin) / Adult £2 Pumpkin[..]\nhttps://jarrowhall.com/events/j
 arroween/
URL:https://jarrowhall.com/events/jarroween/
END:VEVENT
END:VCALENDAR