BEGIN:VCALENDAR
VERSION:2.0
PRODID:-//eventon.com NONSGML v1.0//EN
CALSCALE:GREGORIAN
METHOD:PUBLISH
BEGIN:VEVENT
UID:69ea531673be5
DTSTAMP:20260423T171254Z
DTSTART:20251028T120000Z
DTEND:20251028T150000Z
LOCATION:Jarrow Hall
SUMMARY:Artist Workshop
DESCRIPTION:Our Discovering Inspiration programme continues this October ha
 lf term with a series of clay workshops from our artist in residence\,  Lau
 ra Marley. Drop in anytime between 12-1pm and 2-3pm to join. Free with annu
 al pass. About the artist Laura Marley is an artist and ceramicist based in
  the North East[..]\nhttps://jarrowhall.com/events/artist-workshop-3/
URL:https://jarrowhall.com/events/artist-workshop-3/
END:VEVENT
END:VCALENDAR