BEGIN:VCALENDAR
VERSION:2.0
PRODID:-//eventon.com NONSGML v1.0//EN
CALSCALE:GREGORIAN
METHOD:PUBLISH
BEGIN:VEVENT
UID:69ea5274088e7
DTSTAMP:20260423T171012Z
DTSTART:20251029T110000Z
DTEND:20251029T113000Z
LOCATION:Jarrow Hall
SUMMARY:Meet the Animals
DESCRIPTION:Join us for a Meet the Animals session where we introduce you t
 o and highlight some of our rare-breed animals. Learn about they live on ou
 r farm and say hello to the friendlier ones! Meet at 11:00am at Reception F
 ree with Annual Pass &#8211; no booking required\nhttps://jarrowhall.com/ev
 ents/meet-the-animals-5/
URL:https://jarrowhall.com/events/meet-the-animals-5/
END:VEVENT
END:VCALENDAR