BEGIN:VCALENDAR
VERSION:2.0
PRODID:-//eventon.com NONSGML v1.0//EN
CALSCALE:GREGORIAN
METHOD:PUBLISH
BEGIN:VEVENT
UID:69ea53c8ee16e
DTSTAMP:20260423T171552Z
DTSTART:20251031T100000Z
DTEND:20251031T160000Z
LOCATION:Jarrow Hall
SUMMARY:Halloween Play Day
DESCRIPTION:Come and get stuck into some of our amazing Halloween crafts an
 d witchy games on Friday 31st October\,  all day in the museum. Free with a
 nnual pass\nhttps://jarrowhall.com/events/halloween-play-day/
URL:https://jarrowhall.com/events/halloween-play-day/
END:VEVENT
END:VCALENDAR